BEGIN:VCALENDAR
VERSION:2.0
PRODID:-//特定非営利活動法人西川木楽会 - ECPv6.15.20//NONSGML v1.0//EN
CALSCALE:GREGORIAN
METHOD:PUBLISH
X-WR-CALNAME:特定非営利活動法人西川木楽会
X-ORIGINAL-URL:https://kirakukai.org
X-WR-CALDESC:特定非営利活動法人西川木楽会 のイベント
REFRESH-INTERVAL;VALUE=DURATION:PT1H
X-Robots-Tag:noindex
X-PUBLISHED-TTL:PT1H
BEGIN:VTIMEZONE
TZID:Asia/Tokyo
BEGIN:STANDARD
TZOFFSETFROM:+0900
TZOFFSETTO:+0900
TZNAME:JST
DTSTART:20240101T000000
END:STANDARD
END:VTIMEZONE
BEGIN:VEVENT
DTSTART;TZID=Asia/Tokyo:20251026T100000
DTEND;TZID=Asia/Tokyo:20251027T170000
DTSTAMP:20260421T223245
CREATED:20251109T234332Z
LAST-MODIFIED:20251109T234342Z
UID:581-1761472800-1761584400@kirakukai.org
SUMMARY:入間万燈まつり
DESCRIPTION:
URL:https://kirakukai.org/event/%e5%85%a5%e9%96%93%e4%b8%87%e7%87%88%e3%81%be%e3%81%a4%e3%82%8a/
END:VEVENT
BEGIN:VEVENT
DTSTART;TZID=Asia/Tokyo:20251026T000000
DTEND;TZID=Asia/Tokyo:20251027T000000
DTSTAMP:20260421T223245
CREATED:20251111T125028Z
LAST-MODIFIED:20251124T135306Z
UID:580-1761436800-1761523200@kirakukai.org
SUMMARY:入間万燈まつり
DESCRIPTION:2日間に渡り、小雨の中で出店しました。
URL:https://kirakukai.org/event/%e5%85%a5%e9%96%93%e4%b8%87%e7%87%88%e3%81%be%e3%81%a4%e3%82%8a-2/
ATTACH;FMTTYPE=image/jpeg:https://kirakukai.org/wp-content/uploads/2025/10/20375ced40379f1e8ea26f8e6c287f04-e1763992349577.jpg
END:VEVENT
BEGIN:VEVENT
DTSTART;TZID=Asia/Tokyo:20251019T000000
DTEND;TZID=Asia/Tokyo:20251019T235959
DTSTAMP:20260421T223245
CREATED:20251109T235030Z
LAST-MODIFIED:20251124T124444Z
UID:584-1760832000-1760918399@kirakukai.org
SUMMARY:ギンナン採取
DESCRIPTION:秩父市下吉田地内のギンナン栽培農園から、会員8名により、万燈まつり販売用とするギンナンを採取しました。 \n採取したギンナンは、皮を取り、洗浄、乾燥します。 \n\n			\n				\n			\n				\n				たわわに実るギンナン
URL:https://kirakukai.org/event/%e3%82%ae%e3%83%b3%e3%83%8a%e3%83%b3%e6%8e%a1%e5%8f%96/
ATTACH;FMTTYPE=image/jpeg:https://kirakukai.org/wp-content/uploads/2025/10/s-251019120809574.jpg
END:VEVENT
END:VCALENDAR