BEGIN:VCALENDAR
VERSION:2.0
PRODID:-//特定非営利活動法人西川木楽会 - ECPv6.15.20//NONSGML v1.0//EN
CALSCALE:GREGORIAN
METHOD:PUBLISH
X-WR-CALNAME:特定非営利活動法人西川木楽会
X-ORIGINAL-URL:https://kirakukai.org
X-WR-CALDESC:特定非営利活動法人西川木楽会 のイベント
REFRESH-INTERVAL;VALUE=DURATION:PT1H
X-Robots-Tag:noindex
X-PUBLISHED-TTL:PT1H
BEGIN:VTIMEZONE
TZID:Asia/Tokyo
BEGIN:STANDARD
TZOFFSETFROM:+0900
TZOFFSETTO:+0900
TZNAME:JST
DTSTART:20240101T000000
END:STANDARD
END:VTIMEZONE
BEGIN:VEVENT
DTSTART;TZID=Asia/Tokyo:20251228T000000
DTEND;TZID=Asia/Tokyo:20260105T235959
DTSTAMP:20260421T222231
CREATED:20251109T233549Z
LAST-MODIFIED:20260102T072131Z
UID:576-1766880000-1767657599@kirakukai.org
SUMMARY:エコツアー　
DESCRIPTION:ミニ門松づくり \n\n			\n				\n			\n				\n				袴用孟宗竹の準備\n				\n			\n				\n			\n				\n				袴作成\n				\n			\n				\n			\n				\n				タケ切り\n				\n			\n				\n			\n				\n				２ｍにカット
URL:https://kirakukai.org/event/%e3%82%a8%e3%82%b3%e3%83%84%e3%82%a2%e3%83%bc%e3%80%80/
ATTACH;FMTTYPE=image/jpeg:https://kirakukai.org/wp-content/uploads/2025/11/s-251228-5.jpg
END:VEVENT
BEGIN:VEVENT
DTSTART;TZID=Asia/Tokyo:20260118T110000
DTEND;TZID=Asia/Tokyo:20260118T150000
DTSTAMP:20260421T222231
CREATED:20260102T073114Z
LAST-MODIFIED:20260128T135846Z
UID:670-1768734000-1768748400@kirakukai.org
SUMMARY:安全祈願祭＆自由討論会
DESCRIPTION:安全祈願祭＆自由討論会を行いました。 \n1年の作業の安全を祈願しました。 \n \n自由討論会
URL:https://kirakukai.org/event/%e5%ae%89%e5%85%a8%e7%a5%88%e9%a1%98%e7%a5%ad%ef%bc%86%e8%87%aa%e7%94%b1%e8%a8%8e%e8%ab%96%e4%bc%9a/
END:VEVENT
BEGIN:VEVENT
DTSTART;TZID=Asia/Tokyo:20260124T100000
DTEND;TZID=Asia/Tokyo:20260124T150000
DTSTAMP:20260421T222231
CREATED:20260102T073218Z
LAST-MODIFIED:20260128T134937Z
UID:673-1769248800-1769266800@kirakukai.org
SUMMARY:ユガテ定例活動
DESCRIPTION:昨年の11月に伐採した4本のコナラを90cmの長さに玉切り作業を行いました。 \n人力で70本の原木の運び出しを行いました。 \n次回は、「引っ張りだこ」を使用した運び出しを行います。 \nシイタケの植菌作業は、3月末か春のイベント時に行います。
URL:https://kirakukai.org/event/%e3%83%a6%e3%82%ac%e3%83%86%e5%ae%9a%e4%be%8b%e6%b4%bb%e5%8b%95/
END:VEVENT
BEGIN:VEVENT
DTSTART;TZID=Asia/Tokyo:20260228T100000
DTEND;TZID=Asia/Tokyo:20260228T150000
DTSTAMP:20260421T222231
CREATED:20260221T013739Z
LAST-MODIFIED:20260221T013739Z
UID:703-1772272800-1772290800@kirakukai.org
SUMMARY:ユガテの定例活動
DESCRIPTION:シイタケ栽培用の伐採したコナラを「引っ張りだこ」で引き上げ作業を行います。
URL:https://kirakukai.org/event/%e3%83%a6%e3%82%ac%e3%83%86%e3%81%ae%e5%ae%9a%e4%be%8b%e6%b4%bb%e5%8b%95/
END:VEVENT
BEGIN:VEVENT
DTSTART;TZID=Asia/Tokyo:20260301T093000
DTEND;TZID=Asia/Tokyo:20260301T140000
DTSTAMP:20260421T222231
CREATED:20260221T014532Z
LAST-MODIFIED:20260221T014532Z
UID:706-1772357400-1772373600@kirakukai.org
SUMMARY:ブルベリー農園から
DESCRIPTION:搬入した堆肥を農園全体へ散布作業 \n剪定作業
URL:https://kirakukai.org/event/%e3%83%96%e3%83%ab%e3%83%99%e3%83%aa%e3%83%bc%e8%be%b2%e5%9c%92%e3%81%8b%e3%82%89/
END:VEVENT
BEGIN:VEVENT
DTSTART;TZID=Asia/Tokyo:20260328T100000
DTEND;TZID=Asia/Tokyo:20260328T150000
DTSTAMP:20260421T222231
CREATED:20260307T055046Z
LAST-MODIFIED:20260307T055046Z
UID:709-1774692000-1774710000@kirakukai.org
SUMMARY:ユガテの定例作業
DESCRIPTION:シイタケの植菌作業 \nヒラタケのサンドイッチ植菌作業
URL:https://kirakukai.org/event/%e3%83%a6%e3%82%ac%e3%83%86%e3%81%ae%e5%ae%9a%e4%be%8b%e4%bd%9c%e6%a5%ad/
END:VEVENT
BEGIN:VEVENT
DTSTART;TZID=Asia/Tokyo:20260405T100000
DTEND;TZID=Asia/Tokyo:20260405T150000
DTSTAMP:20260421T222231
CREATED:20260307T055532Z
LAST-MODIFIED:20260307T055532Z
UID:711-1775383200-1775401200@kirakukai.org
SUMMARY:ユガテの春を楽しむ
DESCRIPTION:会員及び会員の紹介者向け \n桜の花を見ながら、タラの芽、ウド、タケノコなど春の山菜を味わう企画です。
URL:https://kirakukai.org/event/%e3%83%a6%e3%82%ac%e3%83%86%e3%81%ae%e6%98%a5%e3%82%92%e6%a5%bd%e3%81%97%e3%82%80/
END:VEVENT
END:VCALENDAR