BEGIN:VCALENDAR
VERSION:2.0
PRODID:-//特定非営利活動法人西川木楽会 - ECPv6.15.20//NONSGML v1.0//EN
CALSCALE:GREGORIAN
METHOD:PUBLISH
X-WR-CALNAME:特定非営利活動法人西川木楽会
X-ORIGINAL-URL:https://kirakukai.org
X-WR-CALDESC:特定非営利活動法人西川木楽会 のイベント
REFRESH-INTERVAL;VALUE=DURATION:PT1H
X-Robots-Tag:noindex
X-PUBLISHED-TTL:PT1H
BEGIN:VTIMEZONE
TZID:Asia/Tokyo
BEGIN:STANDARD
TZOFFSETFROM:+0900
TZOFFSETTO:+0900
TZNAME:JST
DTSTART:20240101T000000
END:STANDARD
END:VTIMEZONE
BEGIN:VEVENT
DTSTART;TZID=Asia/Tokyo:20251102T093000
DTEND;TZID=Asia/Tokyo:20251102T120000
DTSTAMP:20260421T192332
CREATED:20251109T125227Z
LAST-MODIFIED:20251109T224449Z
UID:560-1762075800-1762084800@kirakukai.org
SUMMARY:ブルーベリー作業
DESCRIPTION:ネットを外し、今年度の作業を終了としました。 \n来年2月に剪定作業と堆肥入れ作業を行います。 \n 
URL:https://kirakukai.org/event/%e4%bb%8a%e5%b9%b4%e3%81%ae%e3%83%96%e3%83%ab%e3%83%bc%e3%83%99%e3%83%aa%e3%83%bc%e4%bd%9c%e6%a5%ad%e7%b5%82%e4%ba%86%e3%81%97%e3%81%be%e3%81%97%e3%81%9f%e3%80%82/
LOCATION:八徳　ブルーベリー畑\, 飯能市大字長沢\, 埼玉県\, Japan
ATTACH;FMTTYPE=image/jpeg:https://kirakukai.org/wp-content/uploads/2025/11/s-251102113223497.jpg
END:VEVENT
BEGIN:VEVENT
DTSTART;TZID=Asia/Tokyo:20251111T000000
DTEND;TZID=Asia/Tokyo:20251111T235959
DTSTAMP:20260421T192332
CREATED:20251115T073120Z
LAST-MODIFIED:20251124T133632Z
UID:598-1762819200-1762905599@kirakukai.org
SUMMARY:木工作業
DESCRIPTION:萩の里周辺の道路わきの草刈りを行いました。 \nアカガシ等が　かなり成長しており　鋸、剪定鋏などでの作業になりました。
URL:https://kirakukai.org/event/%e6%9c%a8%e5%b7%a5%e4%bd%9c%e6%a5%ad/
ATTACH;FMTTYPE=image/jpeg:https://kirakukai.org/wp-content/uploads/2025/11/s-251111-4-e1763268448867.jpg
END:VEVENT
BEGIN:VEVENT
DTSTART;TZID=Asia/Tokyo:20251118T000000
DTEND;TZID=Asia/Tokyo:20251118T235959
DTSTAMP:20260421T192332
CREATED:20251124T132331Z
LAST-MODIFIED:20251124T132337Z
UID:616-1763424000-1763510399@kirakukai.org
SUMMARY:木工作業
DESCRIPTION:現在製作中のベンチに防腐剤を塗布しました。 \n又、ユガテの広場に向かう十字路付近の道端の下草刈りを行いました。
URL:https://kirakukai.org/event/%e6%9c%a8%e5%b7%a5%e4%bd%9c%e6%a5%ad-2/
ATTACH;FMTTYPE=image/jpeg:https://kirakukai.org/wp-content/uploads/2025/11/s-251118-5.jpg
END:VEVENT
BEGIN:VEVENT
DTSTART;TZID=Asia/Tokyo:20251122T100000
DTEND;TZID=Asia/Tokyo:20251122T150000
DTSTAMP:20260421T192332
CREATED:20251109T233645Z
LAST-MODIFIED:20251109T233645Z
UID:578-1763805600-1763823600@kirakukai.org
SUMMARY:ユガテ定例作業
DESCRIPTION:
URL:https://kirakukai.org/event/%e3%83%a6%e3%82%ac%e3%83%86%e5%ae%9a%e4%be%8b%e4%bd%9c%e6%a5%ad/
END:VEVENT
BEGIN:VEVENT
DTSTART;TZID=Asia/Tokyo:20251123T000000
DTEND;TZID=Asia/Tokyo:20251123T235959
DTSTAMP:20260421T192332
CREATED:20251109T224618Z
LAST-MODIFIED:20251124T133255Z
UID:574-1763856000-1763942399@kirakukai.org
SUMMARY:エコツアー
DESCRIPTION:ユガテの森で秋の味覚を味わう \n参加者11名（子供2名） \nきのこの話を聞き　シイタケ、ヒラタケ、クリタケ（2本）の採取 \n皆で調理　アヒージョ、シイタケ、ヒラタケフライ、シイタケのチーズのせ焼き　などなど
URL:https://kirakukai.org/event/%e3%82%a8%e3%82%b3%e3%83%84%e3%82%a2%e3%83%bc/
ATTACH;FMTTYPE=image/jpeg:https://kirakukai.org/wp-content/uploads/2025/11/9ebed233685b752740bc4a6fbdd482c0.jpg
END:VEVENT
END:VCALENDAR