BEGIN:VCALENDAR
VERSION:2.0
PRODID:-//特定非営利活動法人西川木楽会 - ECPv6.15.20//NONSGML v1.0//EN
CALSCALE:GREGORIAN
METHOD:PUBLISH
X-ORIGINAL-URL:https://kirakukai.org
X-WR-CALDESC:特定非営利活動法人西川木楽会 のイベント
REFRESH-INTERVAL;VALUE=DURATION:PT1H
X-Robots-Tag:noindex
X-PUBLISHED-TTL:PT1H
BEGIN:VTIMEZONE
TZID:Asia/Tokyo
BEGIN:STANDARD
TZOFFSETFROM:+0900
TZOFFSETTO:+0900
TZNAME:JST
DTSTART:20240101T000000
END:STANDARD
END:VTIMEZONE
BEGIN:VEVENT
DTSTART;TZID=Asia/Tokyo:20251228T000000
DTEND;TZID=Asia/Tokyo:20260105T235959
DTSTAMP:20260421T191556
CREATED:20251109T233549Z
LAST-MODIFIED:20260102T072131Z
UID:576-1766880000-1767657599@kirakukai.org
SUMMARY:エコツアー　
DESCRIPTION:ミニ門松づくり \n\n			\n				\n			\n				\n				袴用孟宗竹の準備\n				\n			\n				\n			\n				\n				袴作成\n				\n			\n				\n			\n				\n				タケ切り\n				\n			\n				\n			\n				\n				２ｍにカット
URL:https://kirakukai.org/event/%e3%82%a8%e3%82%b3%e3%83%84%e3%82%a2%e3%83%bc%e3%80%80/
ATTACH;FMTTYPE=image/jpeg:https://kirakukai.org/wp-content/uploads/2025/11/s-251228-5.jpg
END:VEVENT
END:VCALENDAR